BEGIN:VCALENDAR
VERSION:2.0
PRODID:-//Library Market//iCal Export//EN
BEGIN:VEVENT
SUMMARY:The Art of Making Beef Jerky
UID:20850
DTSTAMP:20260424T215300Z
DTSTART:20260727T223000Z
DTEND:20260728T003000Z
LOCATION:116 Merritts Rd, Farmingdale, NY 11735, United States
ROOM: Room A/B
DESCRIPTION:Fee: $8.00 per personJoin Chef Anthony of co-owner of A Mano B
 aking Company and the owner of No Bull Beef Jerky for a hands-on demonstra
 tion on making high-quality beef jerky at home. The program will cover a v
 ariety of preparation techniques and equipment options, including dehydrat
 ors, ovens, smokers, and other at-home methods, helping you choose what wo
 rks best for you. Best of all, attendees will have the opportunity to samp
 le several flavors from No Bull Beef Jerky! 
URL:https://farmingdale.librarycalendar.com/event/art-making-beef-jerky-20
 850
END:VEVENT
END:VCALENDAR
