BEGIN:VCALENDAR
VERSION:2.0
PRODID:-//Library Market//iCal Export//EN
BEGIN:VEVENT
SUMMARY:Red Hat Rebels Meeting
UID:20504
DTSTAMP:20260424T025400Z
DTSTART:20260707T170000Z
DTEND:20260707T190000Z
LOCATION:116 Merritts Rd, Farmingdale, NY 11735, United States
ROOM: Room D
DESCRIPTION:
URL:https://farmingdale.librarycalendar.com/event/red-hat-rebels-meeting-2
 0504
END:VEVENT
END:VCALENDAR
