BEGIN:VCALENDAR
VERSION:2.0
PRODID:-//Library Market//iCal Export//EN
BEGIN:VEVENT
SUMMARY:Magic Workshop
UID:20421
DTSTAMP:20260424T081800Z
DTSTART:20260713T181500Z
DTEND:20260713T190000Z
LOCATION:116 Merritts Rd, Farmingdale, NY 11735, United States
ROOM: Room C
DESCRIPTION:Entering Gr. K-5 Learn exciting magic tricks to wow your fami
 ly and friends with Magician Ari Bisk!
URL:https://farmingdale.librarycalendar.com/event/magic-workshop-20421
END:VEVENT
END:VCALENDAR
