BEGIN:VCALENDAR
VERSION:2.0
PRODID:-//Library Market//iCal Export//EN
BEGIN:VEVENT
SUMMARY:Ballgame Snacks
UID:20420
DTSTAMP:20260421T132600Z
DTSTART:20260710T181500Z
DTEND:20260710T190000Z
LOCATION:116 Merritts Rd, Farmingdale, NY 11735, United States
ROOM: Room C
DESCRIPTION:Entering Gr. 3-5 Learn how to make two ballpark favorites: ch
 ocolate milkshakes and garlic fries! 
URL:https://farmingdale.librarycalendar.com/event/ballgame-snacks-20420
END:VEVENT
END:VCALENDAR
