BEGIN:VCALENDAR
VERSION:2.0
PRODID:-//Library Market//iCal Export//EN
BEGIN:VEVENT
SUMMARY:Ocean Floats
UID:20418
DTSTAMP:20260425T005100Z
DTSTART:20260709T181500Z
DTEND:20260709T190000Z
LOCATION:116 Merritts Rd, Farmingdale, NY 11735, United States
ROOM: Room D
DESCRIPTION:Entering Gr. K-5Cool off this summer by making this tasty beac
 h-themed float! 
URL:https://farmingdale.librarycalendar.com/event/ocean-floats-20418
END:VEVENT
END:VCALENDAR
