BEGIN:VCALENDAR
VERSION:2.0
PRODID:-//Library Market//iCal Export//EN
BEGIN:VEVENT
SUMMARY:Jurassic World Insects
UID:20417
DTSTAMP:20260423T054600Z
DTSTART:20260708T181500Z
DTEND:20260708T190000Z
LOCATION:116 Merritts Rd, Farmingdale, NY 11735, United States
ROOM: Room C
DESCRIPTION:Entering Gr. 3-5Step into a prehistoric adventure as you recre
 ate ancient bugs in amber slime!
URL:https://farmingdale.librarycalendar.com/event/jurassic-world-insects-2
 0417
END:VEVENT
END:VCALENDAR
