BEGIN:VCALENDAR
VERSION:2.0
PRODID:-//Library Market//iCal Export//EN
BEGIN:VEVENT
SUMMARY:Lego Challenge
UID:20411
DTSTAMP:20260420T120800Z
DTSTART:20260701T181500Z
DTEND:20260701T190000Z
LOCATION:116 Merritts Rd, Farmingdale, NY 11735, United States
ROOM: Room C
DESCRIPTION:Entering Gr. 3-5Let your imagination run wild as you build you
 r own original Lego designs or use idea cards to spark new creative projec
 ts.
URL:https://farmingdale.librarycalendar.com/event/lego-challenge-20411
END:VEVENT
END:VCALENDAR
