BEGIN:VCALENDAR
VERSION:2.0
PRODID:-//Library Market//iCal Export//EN
BEGIN:VEVENT
SUMMARY:The Watermelon Seed
UID:20410
DTSTAMP:20260425T005100Z
DTSTART:20260706T181500Z
DTEND:20260706T190000Z
LOCATION:116 Merritts Rd, Farmingdale, NY 11735, United States
ROOM: Room C
DESCRIPTION:Entering Gr. K-2Enjoy a reading of The Watermelon Seed by Greg
  Pizzoli, then make your own watermelon slime to take home!
URL:https://farmingdale.librarycalendar.com/event/watermelon-seed-20410
END:VEVENT
END:VCALENDAR
