BEGIN:VCALENDAR
VERSION:2.0
PRODID:-//Library Market//iCal Export//EN
BEGIN:VEVENT
SUMMARY:Stars &amp; Stripes
UID:20409
DTSTAMP:20260421T165900Z
DTSTART:20260702T181500Z
DTEND:20260702T190000Z
LOCATION:116 Merritts Rd, Farmingdale, NY 11735, United States
ROOM: Room D
DESCRIPTION:Entering Gr. K-2Celebrate the Fourth of July by creating a coo
 l interlocking star craft! This program is part of the America 250th at t
 he Library initiative and is open to all residents on Nassau County. 
URL:https://farmingdale.librarycalendar.com/event/stars-stripes-20409
END:VEVENT
END:VCALENDAR
