BEGIN:VCALENDAR
VERSION:2.0
PRODID:-//Library Market//iCal Export//EN
BEGIN:VEVENT
SUMMARY:DIY Summer Journal
UID:20408
DTSTAMP:20260421T132600Z
DTSTART:20260630T181500Z
DTEND:20260630T190000Z
LOCATION:116 Merritts Rd, Farmingdale, NY 11735, United States
ROOM: Room F
DESCRIPTION:Entering Gr. 3-5Create your own journal to capture summer memo
 ries or fill it with ideas for summer. 
URL:https://farmingdale.librarycalendar.com/event/diy-summer-journal-20408
END:VEVENT
END:VCALENDAR
