BEGIN:VCALENDAR
VERSION:2.0
PRODID:-//Library Market//iCal Export//EN
BEGIN:VEVENT
SUMMARY:Library Games
UID:20407
DTSTAMP:20260421T023300Z
DTSTART:20260629T181500Z
DTEND:20260629T190000Z
LOCATION:116 Merritts Rd, Farmingdale, NY 11735, United States
ROOM: Room A/B
DESCRIPTION:Entering Gr. K-2Join us for an afternoon of fun-filled games, 
 including balloon pong and frisbee skeeball.
URL:https://farmingdale.librarycalendar.com/event/library-games-20407
END:VEVENT
END:VCALENDAR
