BEGIN:VCALENDAR
VERSION:2.0
PRODID:-//Library Market//iCal Export//EN
BEGIN:VEVENT
SUMMARY:Life&#039;s a Beach
UID:20406
DTSTAMP:20260421T132600Z
DTSTART:20260708T143000Z
DTEND:20260708T153000Z
LOCATION:116 Merritts Rd, Farmingdale, NY 11735, United States
ROOM: Room E
DESCRIPTION:All Ages with an adult Create a beach-themed painting to disp
 lay at home and welcome summer!
URL:https://farmingdale.librarycalendar.com/event/lifes-beach-20406
END:VEVENT
END:VCALENDAR
