BEGIN:VCALENDAR
VERSION:2.0
PRODID:-//Library Market//iCal Export//EN
BEGIN:VEVENT
SUMMARY:Beach Totes
UID:20404
DTSTAMP:20260424T065600Z
DTSTART:20260708T230000Z
DTEND:20260709T000000Z
LOCATION:116 Merritts Rd, Farmingdale, NY 11735, United States
ROOM: Room E
DESCRIPTION:Entering Gr. 6-12 Create your perfect beach tote and get read
 y for a summer full of fun and style!
URL:https://farmingdale.librarycalendar.com/event/beach-totes-20404
END:VEVENT
END:VCALENDAR
