BEGIN:VCALENDAR
VERSION:2.0
PRODID:-//Library Market//iCal Export//EN
BEGIN:VEVENT
SUMMARY:Textured Beach Art
UID:20396
DTSTAMP:20260424T025400Z
DTSTART:20260710T181500Z
DTEND:20260710T190000Z
LOCATION:116 Merritts Rd, Farmingdale, NY 11735, United States
ROOM: Room F
DESCRIPTION:All Ages/Special NeedsCreate a beach scene using different tex
 tures - perfect to display at home!
URL:https://farmingdale.librarycalendar.com/event/textured-beach-art-20396
END:VEVENT
END:VCALENDAR
