BEGIN:VCALENDAR
VERSION:2.0
PRODID:-//Library Market//iCal Export//EN
BEGIN:VEVENT
SUMMARY:A is for America
UID:20386
DTSTAMP:20260422T130500Z
DTSTART:20260709T140000Z
DTEND:20260709T150000Z
LOCATION:116 Merritts Rd, Farmingdale, NY 11735, United States
ROOM: Room E
DESCRIPTION:2-4 years with an adultWe’re celebrating America with storie
 s, games, and a craft. This program is part of the America 250th at the L
 ibrary initiative and is open to all residents on Nassau County. 
URL:https://farmingdale.librarycalendar.com/event/america-20386
END:VEVENT
END:VCALENDAR
