BEGIN:VCALENDAR
VERSION:2.0
PRODID:-//Library Market//iCal Export//EN
BEGIN:VEVENT
SUMMARY:Dino Handprint
UID:20384
DTSTAMP:20260424T025400Z
DTSTART:20260706T140000Z
DTEND:20260706T150000Z
LOCATION:116 Merritts Rd, Farmingdale, NY 11735, United States
ROOM: Room E
DESCRIPTION:1-4 years with an adultEnjoy prehistoric fun with dinosaur-the
 med songs and movement, then create a dino handprint craft to take home.
URL:https://farmingdale.librarycalendar.com/event/dino-handprint-20384
END:VEVENT
END:VCALENDAR
