BEGIN:VCALENDAR
VERSION:2.0
PRODID:-//Library Market//iCal Export//EN
BEGIN:VEVENT
SUMMARY:Shake &amp; Make Music
UID:20381
DTSTAMP:20260421T023300Z
DTSTART:20260630T223000Z
DTEND:20260630T233000Z
LOCATION:116 Merritts Rd, Farmingdale, NY 11735, United States
ROOM: Room E
DESCRIPTION:18 months-4 years with an adultJoin Heather from Shake &amp; M
 ake Music for fun songs, dances, and musical play with your toddler!
URL:https://farmingdale.librarycalendar.com/event/shake-make-music-20381
END:VEVENT
END:VCALENDAR
