BEGIN:VCALENDAR
VERSION:2.0
PRODID:-//Library Market//iCal Export//EN
BEGIN:VEVENT
SUMMARY:Exceptional Explorers
UID:20378
DTSTAMP:20260424T215300Z
DTSTART:20260713T140000Z
DTEND:20260713T150000Z
LOCATION:116 Merritts Rd, Farmingdale, NY 11735, United States
ROOM: Room E
DESCRIPTION:2-4 years with an adultLearn about archaeology and dinosaurs t
 hrough stories and hands-on activity stations. 
URL:https://farmingdale.librarycalendar.com/event/exceptional-explorers-20
 378
END:VEVENT
END:VCALENDAR
